BEGIN:VCALENDAR
VERSION:2.0
PRODID:-//wp-events-plugin.com//7.2.3.1//EN
TZID:Europe/Berlin
X-WR-TIMEZONE:Europe/Berlin
BEGIN:VEVENT
UID:848@humanismus-bayern.de
DTSTART;TZID=Europe/Berlin:20210119T193000
DTEND;TZID=Europe/Berlin:20210119T193000
DTSTAMP:20210106T181313Z
URL:https://www.humanismus-bayern.de/blog/events/warum-wahrnehmung-vorurte
 ile-braucht-und-warum-das-sinn-macht/
SUMMARY:Warum Wahrnehmung Vorurteile braucht – und warum das Sinn macht
DESCRIPTION:Online-Vortrag von Dr. Kai Schreiber im Rahmen der Kortizes-Rei
 he "Vom Reiz der Sinne" in Nürnberg\nWahrnehmung ist zweifellos unser wic
 htigstes Werkzeug in allen Lebenslagen. Wir wünschen uns Sicherheit und W
 ahrheit\, aber in einer unsicheren Welt muss Wahrnehmen immer ein Spiel mi
 t den Wahrscheinlichkeiten bleiben. Ohne Zweifel ist Erkenntnis nicht zu h
 aben. Bei näherer Betrachtung der Wahrnehmungstheorie scheint die Lage no
 ch verzwickter\, denn mit mathematischer Sicherheit sind wir gezwungen\, a
 ll unser Wahrnehmen und Urteilen auf Vorurteile zu gründen. In diesem Vor
 trag erklärt Kai Schreiber\, warum das so sein muss\, was das praktisch b
 edeutet\, und warum das viel weniger schlimm ist\, als es klingt.\nMehr In
 fos: gbs
END:VEVENT
BEGIN:VTIMEZONE
TZID:Europe/Berlin
X-LIC-LOCATION:Europe/Berlin
BEGIN:STANDARD
DTSTART:20201025T020000
TZOFFSETFROM:+0200
TZOFFSETTO:+0100
TZNAME:CET
END:STANDARD
END:VTIMEZONE
END:VCALENDAR