BEGIN:VCALENDAR
VERSION:2.0
PRODID:-//wp-events-plugin.com//7.2.2.1//EN
TZID:Europe/Berlin
X-WR-TIMEZONE:Europe/Berlin
BEGIN:VEVENT
UID:990@humanismus-bayern.de
DTSTART;TZID=Europe/Berlin:20211112T193000
DTEND;TZID=Europe/Berlin:20211112T193000
DTSTAMP:20210923T143157Z
URL:https://www.humanismus-bayern.de/blog/events/walter-schmid-ueber-fried
 rich-nietzsche-der-antichrist/
SUMMARY:Walter Schmid: Über Friedrich Nietzsche –  Der Antichrist
DESCRIPTION:Mehr Infos: Freidenker
CATEGORIES:Freidenker,Vortrag
LOCATION:Villa Leon\, Philipp-Koerber-Weg 1\, Nürnberg\, Bayern\, 90439\, 
 Oberfranken\, Deutschland
GEO:49.4434271;11.054230999999959
X-APPLE-STRUCTURED-LOCATION;VALUE=URI;X-ADDRESS=Philipp-Koerber-Weg 1\, Nü
 rnberg\, Bayern\, 90439\, Oberfranken\, Deutschland;X-APPLE-RADIUS=100;X-T
 ITLE=Villa Leon:geo:49.4434271,11.054230999999959
END:VEVENT
BEGIN:VTIMEZONE
TZID:Europe/Berlin
X-LIC-LOCATION:Europe/Berlin
BEGIN:STANDARD
DTSTART:20211031T020000
TZOFFSETFROM:+0200
TZOFFSETTO:+0100
TZNAME:CET
END:STANDARD
END:VTIMEZONE
END:VCALENDAR