BEGIN:VCALENDAR
VERSION:2.0
PRODID:-//wp-events-plugin.com//7.2.2.1//EN
TZID:Europe/Berlin
X-WR-TIMEZONE:Europe/Berlin
BEGIN:VEVENT
UID:1879@humanismus-bayern.de
DTSTART;TZID=Europe/Berlin:20251204T193000
DTEND;TZID=Europe/Berlin:20251204T193000
DTSTAMP:20251203T232509Z
URL:https://www.humanismus-bayern.de/blog/events/vortrag-und-diskussion-mi
 t-prof-dr-joachim-volz-chefarzt-eines-christlichen-krankenhauses-klagt-geg
 en-das-verbot-medizinisch-indizierter-schwangerschaftsabbrueche/
SUMMARY:Vortrag und Diskussion mit Prof. Dr. Joachim Volz - Chefarzt eines 
 christlichen Krankenhauses klagt gegen das Verbot medizinisch indizierter 
 Schwangerschaftsabbrüche
DESCRIPTION:Was passiert\, wenn die Kirche über das ärztliche Gewissen be
 stimmen will? Der Gynäkologe Prof. Dr. Joachim Volz steht im Zentrum eine
 s Konflikts\, der das Verhältnis von medizinischer Ethik\, religiöser Do
 gmatik und staatlichem Strafrecht neu aufrüttelt.\n\nAls Chefarzt in eine
 m christlichen Krankenhaus weigerte sich Volz\, das Verbot medizinisch ind
 izierter Schwangerschaftsabbrüche zu akzeptieren – und kämpft seither 
 für die Gewissensfreiheit in der Medizin\, gegen religiöse Bevormundung 
 und für das Selbstbestimmungsrecht der Frau. Sein Fall wirft ein grelles 
 Licht auf die noch immer geltende Bevormundung durch den §218 StGB und di
 e ungebrochene Macht kirchlicher Dogmen in unserem Land.\n\nDer Vortrag ze
 igt\, warum dieser Konflikt weit über eine arbeitsrechtliche Auseinanders
 etzung hinausgeht – und warum die Frage\, wem der weibliche Körper geh
 ört\, zu einer zentralen Gerechtigkeitsfrage unserer Zeit wird. Ein pers
 önlicher Bericht – und ein Weckruf für Vernunft und Gewissensfreiheit 
 in der Medizin\, für Frauenrechte\, eine neue Sicht auf den § 218 und de
 r Beginn eines auch juristischen Kampfes gegen das Abtreibungsverbot.
ATTACH;FMTTYPE=image/jpeg:https://www.humanismus-bayern.de/blog/wp-content
 /uploads/2019/05/Logo-bfg.png
CATEGORIES:BfG,Vortrag
LOCATION:EineWeltHaus\, Schwanthalerstraße 80\, München\, Bayern\, 80336\
 , Oberbayern\, Deutschland
GEO:48.1375234;11.55292559999998
X-APPLE-STRUCTURED-LOCATION;VALUE=URI;X-ADDRESS=Schwanthalerstraße 80\, M
 ünchen\, Bayern\, 80336\, Oberbayern\, Deutschland;X-APPLE-RADIUS=100;X-T
 ITLE=EineWeltHaus:geo:48.1375234,11.55292559999998
END:VEVENT
BEGIN:VTIMEZONE
TZID:Europe/Berlin
X-LIC-LOCATION:Europe/Berlin
BEGIN:STANDARD
DTSTART:20251026T020000
TZOFFSETFROM:+0200
TZOFFSETTO:+0100
TZNAME:CET
END:STANDARD
END:VTIMEZONE
END:VCALENDAR