BEGIN:VCALENDAR
VERSION:2.0
PRODID:-//wp-events-plugin.com//7.2.3.1//EN
TZID:Europe/Berlin
X-WR-TIMEZONE:Europe/Berlin
BEGIN:VEVENT
UID:1777@humanismus-bayern.de
DTSTART;TZID=Europe/Berlin:20250411T190000
DTEND;TZID=Europe/Berlin:20250411T190000
DTSTAMP:20250327T123527Z
URL:https://www.humanismus-bayern.de/blog/events/themenabend-mit-walter-sc
 hmidt-zu-e-bloch/
SUMMARY:Themenabend mit Walter Schmidt zu E.Bloch
DESCRIPTION:Bloch war ein marxistischer Philosoph (1887 bis 1977).\n\nWalte
 r Schmid war mit Eberhard Braun\, einem seiner ehemaligen Assistenten\, de
 r dann selbst Philosophie-Prof war\, befreundet und hat von ihm u. a. sehr
  viel über die Bloch’sche Philosophie erfahren.\n\nFreidenker
CATEGORIES:Vortrag
LOCATION:Nachbarschaftshaus Gostenhof\, Adam-Klein-Straße 6\, Nürnberg\, 
 Bayern\, 90429\, Mittelfranken\, Deutschland
GEO:49.450272;11.053205
X-APPLE-STRUCTURED-LOCATION;VALUE=URI;X-ADDRESS=Adam-Klein-Straße 6\, Nür
 nberg\, Bayern\, 90429\, Mittelfranken\, Deutschland;X-APPLE-RADIUS=100;X-
 TITLE=Nachbarschaftshaus Gostenhof:geo:49.450272,11.053205
END:VEVENT
BEGIN:VTIMEZONE
TZID:Europe/Berlin
X-LIC-LOCATION:Europe/Berlin
BEGIN:DAYLIGHT
DTSTART:20250330T030000
TZOFFSETFROM:+0100
TZOFFSETTO:+0200
TZNAME:CEST
END:DAYLIGHT
END:VTIMEZONE
END:VCALENDAR