BEGIN:VCALENDAR
VERSION:2.0
PRODID:-//wp-events-plugin.com//7.2.2.1//EN
TZID:Europe/Berlin
X-WR-TIMEZONE:Europe/Berlin
BEGIN:VEVENT
UID:652@humanismus-bayern.de
DTSTART;TZID=Europe/Berlin:20200315T110000
DTEND;TZID=Europe/Berlin:20200315T110000
DTSTAMP:20200227T173605Z
URL:https://www.humanismus-bayern.de/blog/events/sunday-assembly-muenchen-
 3-2020-03-15/
SUMMARY:Sunday Assembly München
DESCRIPTION:Siehe sunday-assembly-muenchen.de\n\njeden dritten Sonntag im M
 onat
CATEGORIES:Feier
LOCATION:Pasinger Fabrik\, August-Exter-Straße 1\, München\, Bayern\, 812
 45\, Oberbayern\, Deutschland
X-APPLE-STRUCTURED-LOCATION;VALUE=URI;X-ADDRESS=August-Exter-Straße 1\, M
 ünchen\, Bayern\, 81245\, Oberbayern\, Deutschland;X-APPLE-RADIUS=100;X-T
 ITLE=Pasinger Fabrik:geo:0,0
END:VEVENT
BEGIN:VTIMEZONE
TZID:Europe/Berlin
X-LIC-LOCATION:Europe/Berlin
BEGIN:STANDARD
DTSTART:20191027T020000
TZOFFSETFROM:+0200
TZOFFSETTO:+0100
TZNAME:CET
END:STANDARD
END:VTIMEZONE
END:VCALENDAR