BEGIN:VCALENDAR
VERSION:2.0
PRODID:-//wp-events-plugin.com//7.2.2.1//EN
TZID:Europe/Berlin
X-WR-TIMEZONE:Europe/Berlin
BEGIN:VEVENT
UID:468@humanismus-bayern.de
DTSTART;TZID=Europe/Berlin:20181125T170000
DTEND;TZID=Europe/Berlin:20181125T193000
DTSTAMP:20180823T163804Z
URL:https://www.humanismus-bayern.de/blog/events/sinn-des-lebens-philosoph
 isches-cafe-mit-frank-schulze/
SUMMARY:Sinn des Lebens? Philosophisches Café mit Frank Schulze
DESCRIPTION:Wer seinen religiösen Glauben verliert oder nie einen hatte\, 
 steht mitunter vor einer existenziellen Herausforderung. Denn: „Die Eins
 icht in den Nihilismus als solchen führt – sofern Ernst dabei ist – z
 um Selbstmord“\, wie Karl Jaspers trocken formulierte.\nNun bedeutet „
 ohne Glaube“ selbstverständlich nicht „ohne Sinn“ – aber der arel
 igiöse Sinn ist von anderer Art und muss zudem von jedem Einzelnen erst s
 elbst errungen werden. Von anderer Art ist er\, weil er keinen religiös-t
 ranszendenten Charakter mehr hat\, sondern „nur“ weltimmanent noch zu 
 denken ist\; er wurzelt sozusagen jenseits des Glaubens statt im Jenseitsg
 lauben. Und er muss insofern selbst errungen werden\, als der Welt\, deren
  Teil der Einzelne ja ist\, eben kein Gesamtsinn mehr vorgegeben ist\, an 
 dem die eigene Existenz dann gleichsam teilhaben könnte.\nMehr Informatio
 nen: HVD Bayern
ATTACH;FMTTYPE=image/jpeg:https://www.humanismus-bayern.de/blog/wp-content
 /uploads/2017/04/HVD-Logo.png
CATEGORIES:HVD,Vortrag
LOCATION:Café Feuerbach\, Elvirastraße 17a\, München\, Bayern\, 80636\, 
 Oberbayern\, Deutschland
GEO:48.14832999999999;11.542709999999943
X-APPLE-STRUCTURED-LOCATION;VALUE=URI;X-ADDRESS=Elvirastraße 17a\, Münche
 n\, Bayern\, 80636\, Oberbayern\, Deutschland;X-APPLE-RADIUS=100;X-TITLE=C
 afé Feuerbach:geo:48.14832999999999,11.542709999999943
END:VEVENT
BEGIN:VTIMEZONE
TZID:Europe/Berlin
X-LIC-LOCATION:Europe/Berlin
BEGIN:STANDARD
DTSTART:20181028T020000
TZOFFSETFROM:+0200
TZOFFSETTO:+0100
TZNAME:CET
END:STANDARD
END:VTIMEZONE
END:VCALENDAR