BEGIN:VCALENDAR
VERSION:2.0
PRODID:-//wp-events-plugin.com//7.2.3.1//EN
TZID:Europe/Berlin
X-WR-TIMEZONE:Europe/Berlin
BEGIN:VEVENT
UID:1419@humanismus-bayern.de
DTSTART;TZID=Europe/Berlin:20230928T180000
DTEND;TZID=Europe/Berlin:20230928T180000
DTSTAMP:20230928T112953Z
URL:https://www.humanismus-bayern.de/blog/events/safe-abortion-day-in-muen
 chen/
SUMMARY:Safe Abortion Day in München
DESCRIPTION:Die AG Safe Abortion Day des Bündnis für sexuelle Selbstbesti
 mmung ruft gemeinsam mit anderen Aktivist*innen aus pro Choice-Gruppen zu 
 einem gemeinsamen Aktionstag auf\, der am 28. September 2023 stattfindet. 
 In München gibt es an diesem Tag um 18 Uhr eine Kungebung auf dem St. Ann
 a-Platz im Lehel\, organisiert vom Bündnis für sexuelle Selbstbestimmung
  München. \n\nMehr Infos: bfg
LOCATION:St. Anna-Platz München\, St.-Anna-Platz\, München\, Bayern\, 805
 38\, Oberbayern\, Deutschland
GEO:48.140146;11.58782
X-APPLE-STRUCTURED-LOCATION;VALUE=URI;X-ADDRESS=St.-Anna-Platz\, München\,
  Bayern\, 80538\, Oberbayern\, Deutschland;X-APPLE-RADIUS=100;X-TITLE=St. 
 Anna-Platz München:geo:48.140146,11.58782
END:VEVENT
BEGIN:VTIMEZONE
TZID:Europe/Berlin
X-LIC-LOCATION:Europe/Berlin
BEGIN:DAYLIGHT
DTSTART:20230326T030000
TZOFFSETFROM:+0100
TZOFFSETTO:+0200
TZNAME:CEST
END:DAYLIGHT
END:VTIMEZONE
END:VCALENDAR