BEGIN:VCALENDAR
VERSION:2.0
PRODID:-//wp-events-plugin.com//7.2.2.1//EN
TZID:Europe/Berlin
X-WR-TIMEZONE:Europe/Berlin
BEGIN:VEVENT
UID:1865@humanismus-bayern.de
DTSTART;TZID=Europe/Berlin:20251023T201500
DTEND;TZID=Europe/Berlin:20251023T214500
DTSTAMP:20251017T083832Z
URL:https://www.humanismus-bayern.de/blog/events/roentgenastronomie-das-we
 sentliche-ist-fuer-die-augen-unsichtbar/
SUMMARY:Röntgen­astronomie Das Wesent­liche ist für die Augen un­sicht
 ­bar
DESCRIPTION:Online-Vortrag von PD Dr. Axel Schwope\, Moderation: Konstantin
  Haubner\nWas\, bitteschön\, ist denn Röntgenastronomie? Diese spezielle
  Sichtweise auf den Himmel erschließt das Geschehen im All\, das mit Rön
 tgenaugen sichtbar wäre. Da Röntgenstrahlung aus dem All in unserer Atmo
 sphäre verschluckt wird\, ist Röntgenastronomie ein Kind des Raumfahrtze
 italters. Auf der Suche nach reflektierter Sonnenstrahlung vom Mond entdec
 kte man das hochenergetische und energiereiche Universum. Im Vortrag werde
 n Höhepunkte der Röntgenastronomie allgemein und des deutsch-russischen 
 Satellitenprojektes Spektrum-Roentgen-Gamma/eROSITA geschildert.\n\nKortiz
 es
CATEGORIES:Vortrag
END:VEVENT
BEGIN:VTIMEZONE
TZID:Europe/Berlin
X-LIC-LOCATION:Europe/Berlin
BEGIN:DAYLIGHT
DTSTART:20250330T030000
TZOFFSETFROM:+0100
TZOFFSETTO:+0200
TZNAME:CEST
END:DAYLIGHT
END:VTIMEZONE
END:VCALENDAR