BEGIN:VCALENDAR
VERSION:2.0
PRODID:-//wp-events-plugin.com//7.2.2.1//EN
TZID:Europe/Berlin
X-WR-TIMEZONE:Europe/Berlin
BEGIN:VEVENT
UID:941@humanismus-bayern.de
DTSTART;TZID=Europe/Berlin:20211008T193000
DTEND;TZID=Europe/Berlin:20211008T193000
DTSTAMP:20210826T170704Z
URL:https://www.humanismus-bayern.de/blog/events/richard-dollinger-ueber-f
 riedrich-engels-die-entwicklung-des-sozialismus-von-der-utopie-zur-wissens
 chaft/
SUMMARY:Richard Dollinger: Über Friedrich Engels – Die Entwicklung des S
 ozialismus\, von der Utopie zur Wissenschaft
DESCRIPTION:Richard Dollinger: Über Friedrich Engels – Die Entwicklung d
 es Sozialismus\, von der Utopie zur Wissenschaft\n\nMehr Infos: Freidenker
CATEGORIES:Freidenker
LOCATION:Villa Leon\, Philipp-Koerber-Weg 1\, Nürnberg\, Bayern\, 90439\, 
 Oberfranken\, Deutschland
GEO:49.4434271;11.054230999999959
X-APPLE-STRUCTURED-LOCATION;VALUE=URI;X-ADDRESS=Philipp-Koerber-Weg 1\, Nü
 rnberg\, Bayern\, 90439\, Oberfranken\, Deutschland;X-APPLE-RADIUS=100;X-T
 ITLE=Villa Leon:geo:49.4434271,11.054230999999959
END:VEVENT
BEGIN:VTIMEZONE
TZID:Europe/Berlin
X-LIC-LOCATION:Europe/Berlin
BEGIN:DAYLIGHT
DTSTART:20210328T030000
TZOFFSETFROM:+0100
TZOFFSETTO:+0200
TZNAME:CEST
END:DAYLIGHT
END:VTIMEZONE
END:VCALENDAR