BEGIN:VCALENDAR
VERSION:2.0
PRODID:-//wp-events-plugin.com//7.2.3.1//EN
TZID:Europe/Berlin
X-WR-TIMEZONE:Europe/Berlin
BEGIN:VEVENT
UID:1148@humanismus-bayern.de
DTSTART;TZID=Europe/Berlin:20220910T000000
DTEND;TZID=Europe/Berlin:20220911T000000
DTSTAMP:20220907T061046Z
URL:https://www.humanismus-bayern.de/blog/events/religionsfreie-auf-dem-co
 rso-leopold/
SUMMARY:bfg und gbs München auf dem Corso Leopold
DESCRIPTION:Der bfg München und die gbs München werden mit einem Stand am
  Corso Leopold teilnehmen.\n\nDer Stand der gbs mit dem Thema Evolution in
  der Grundschule (gbs München).
CATEGORIES:BfG,GBS,Infostand
LOCATION:Corso Leopold\, Leopoldstraße 50\, München\, Bayern\, 80802\, Ob
 erbayern\, Deutschland
GEO:48.1580346;11.584826600000042
X-APPLE-STRUCTURED-LOCATION;VALUE=URI;X-ADDRESS=Leopoldstraße 50\, Münche
 n\, Bayern\, 80802\, Oberbayern\, Deutschland;X-APPLE-RADIUS=100;X-TITLE=C
 orso Leopold:geo:48.1580346,11.584826600000042
END:VEVENT
BEGIN:VTIMEZONE
TZID:Europe/Berlin
X-LIC-LOCATION:Europe/Berlin
BEGIN:DAYLIGHT
DTSTART:20220327T030000
TZOFFSETFROM:+0100
TZOFFSETTO:+0200
TZNAME:CEST
END:DAYLIGHT
END:VTIMEZONE
END:VCALENDAR