BEGIN:VCALENDAR
VERSION:2.0
PRODID:-//wp-events-plugin.com//7.2.2.1//EN
TZID:Europe/Berlin
X-WR-TIMEZONE:Europe/Berlin
BEGIN:VEVENT
UID:1657@humanismus-bayern.de
DTSTART;TZID=Europe/Berlin:20241211T190000
DTEND;TZID=Europe/Berlin:20241211T190000
DTSTAMP:20241127T224839Z
URL:https://www.humanismus-bayern.de/blog/events/pdiumsdiskussion-prochoic
 e-bfg-muenchen/
SUMMARY:- ENTFÄLLT - Podiumsdiskussion "ProChoice" bfg München
DESCRIPTION:Mehr Infos demnächst unter bfg München
END:VEVENT
BEGIN:VTIMEZONE
TZID:Europe/Berlin
X-LIC-LOCATION:Europe/Berlin
BEGIN:STANDARD
DTSTART:20241027T020000
TZOFFSETFROM:+0200
TZOFFSETTO:+0100
TZNAME:CET
END:STANDARD
END:VTIMEZONE
END:VCALENDAR