BEGIN:VCALENDAR
VERSION:2.0
PRODID:-//wp-events-plugin.com//7.2.3.1//EN
TZID:Europe/Berlin
X-WR-TIMEZONE:Europe/Berlin
BEGIN:VEVENT
UID:927@humanismus-bayern.de
DTSTART;TZID=Europe/Berlin:20210727T200000
DTEND;TZID=Europe/Berlin:20210727T213000
DTSTAMP:20210722T154349Z
URL:https://www.humanismus-bayern.de/blog/events/online-vor-ort-30-jahre-h
 interhalt-wider-den-gehorsam/
SUMMARY:Online & Vor-Ort: 30 Jahre Hinterhalt – Wider den Gehorsam
DESCRIPTION:Nichts weniger als eine Welt-Premiere steht geradezu unmittelba
 r vor der Türe im 30. Jahr der Kulturbühne Hinterhalt!\n\nAm Dienstag\, 
 den 27.Juli 2021 um 20:00 Uhr heißt es „Wider den Gehorsam“\, wenn Ma
 x Uthoff (Lesung/Moderation) und Konstantin Wecker (Musik) zum allerersten
  Mal gemeinsam auf der Bühne stehen. Zu diesem besonderen Abend lädt die
  Schulgründungsinitiative Demokratische Schule München e.V. in Kooperati
 on mit dem Kulturverein Isar Loisach e.V. ein. Publikum ist sehr begrenzt 
 zugelassen (Kartenverlosung von 2 x 2 Karten ab 23.Juli 2021)\, doch die g
 esamte Veranstaltung kann kostenlos per Livestream verfolgt werden.\n\n&nb
 sp\;\n\nMehr Infos: Kulturbühne Hinterhalt Geretsried
CATEGORIES:Kultur,Vortrag
LOCATION:Kleinkunstbühne Hinterhalt\, Leitenstraße 40\, Geretsried\, Baye
 rn\, 82538\, Oberbayern\, Deutschland
GEO:47.888718;11.439653
X-APPLE-STRUCTURED-LOCATION;VALUE=URI;X-ADDRESS=Leitenstraße 40\, Geretsri
 ed\, Bayern\, 82538\, Oberbayern\, Deutschland;X-APPLE-RADIUS=100;X-TITLE=
 Kleinkunstbühne Hinterhalt:geo:47.888718,11.439653
END:VEVENT
BEGIN:VTIMEZONE
TZID:Europe/Berlin
X-LIC-LOCATION:Europe/Berlin
BEGIN:DAYLIGHT
DTSTART:20210328T030000
TZOFFSETFROM:+0100
TZOFFSETTO:+0200
TZNAME:CEST
END:DAYLIGHT
END:VTIMEZONE
END:VCALENDAR