BEGIN:VCALENDAR
VERSION:2.0
PRODID:-//wp-events-plugin.com//7.2.2.1//EN
TZID:Europe/Berlin
X-WR-TIMEZONE:Europe/Berlin
BEGIN:VEVENT
UID:1761@humanismus-bayern.de
DTSTART;TZID=Europe/Berlin:20250127T190000
DTEND;TZID=Europe/Berlin:20250127T190000
DTSTAMP:20250128T195128Z
URL:https://www.humanismus-bayern.de/blog/events/nietzsche-in-schulpforta-
 einem-ort-der-vermittlung-universeller-bildung/
SUMMARY:Nietzsche in Schulpforta – einem Ort der Vermittlung „universel
 ler Bildung“
DESCRIPTION:Am Beginn einer Reihe von Vorträgen zu wichtigen Orten im Lebe
 n Nietzsches wendet sich Johann Figl\, Wien\, in seinem Vortrag dem Intern
 at zu\, in dem Nietzsche sechs Jahre verbrachte. Dieses Gymnasium strebte 
 ausdrücklich eine „universelle Bildung“ an. Der Vortrag thematisiert 
 dabei drei Bereiche: die philologische Ausbildung\, die auf die europäisc
 hen Sprachen fokussiert blieb\, die Vermittlung von Kenntnissen über nich
 tchristliche Religionen und außereuropäische Kulturen sowie die in diese
 m Zeitraum sich vollziehende Begegnung Nietzsches mit religionskritischen 
 Autoren. Figl fragt anschließend\, inwiefern die Ausbildung an dieser dur
 ch strenge Christlichkeit charakterisierten Schule Nietzsches spätere Kri
 tik am Christentum mitbedingt und seine eigene Philosophie geprägt hat.
ATTACH;FMTTYPE=image/jpeg:https://www.humanismus-bayern.de/blog/wp-content
 /uploads/2025/01/Seidlvillalogo_seidl_RGB_webZeichenflaeche-1.jpg
CATEGORIES:Vortrag
END:VEVENT
BEGIN:VTIMEZONE
TZID:Europe/Berlin
X-LIC-LOCATION:Europe/Berlin
BEGIN:STANDARD
DTSTART:20241027T020000
TZOFFSETFROM:+0200
TZOFFSETTO:+0100
TZNAME:CET
END:STANDARD
END:VTIMEZONE
END:VCALENDAR