BEGIN:VCALENDAR
VERSION:2.0
PRODID:-//wp-events-plugin.com//7.2.3.1//EN
TZID:Europe/Berlin
X-WR-TIMEZONE:Europe/Berlin
BEGIN:VEVENT
UID:2080@humanismus-bayern.de
DTSTART;TZID=Europe/Berlin:20260611T183000
DTEND;TZID=Europe/Berlin:20260611T183000
DTSTAMP:20260422T234559Z
URL:https://www.humanismus-bayern.de/blog/events/militarisierung-im-gesund
 heitswesen-regensburg/
SUMMARY:Militarisierung im Gesundheitswesen / Regensburg
DESCRIPTION: Nadja Rakowitz\n\nGeschäftsführerin Verein demokratischer 
 Ärzt*innen\n\nImpulsvortrag\nmit anschließender Diskussion\n\nTermin:\nD
 onnerstag\, 11. Juni 26\, 18.30 Uhr\nim Gewerkschaftshaus\, Richard Wagner
  Str. 2\n\nVeranstalter:\n\nVerein demokratischer Ärzt*innen\n ver.di\nF
 NW\n\nInfos: bfg Regensburg
CATEGORIES:Vortrag
LOCATION:Gewerkschaftshaus Regensburg\, Richard-Wagner-Straße 2\, Regensbu
 rg\, Oberpfalz\, 93055\, Deutschland
GEO:49.014916;12.107665
X-APPLE-STRUCTURED-LOCATION;VALUE=URI;X-ADDRESS=Richard-Wagner-Straße 2\, 
 Regensburg\, Oberpfalz\, 93055\, Deutschland;X-APPLE-RADIUS=100;X-TITLE=Ge
 werkschaftshaus Regensburg:geo:49.014916,12.107665
END:VEVENT
BEGIN:VTIMEZONE
TZID:Europe/Berlin
X-LIC-LOCATION:Europe/Berlin
BEGIN:DAYLIGHT
DTSTART:20260329T030000
TZOFFSETFROM:+0100
TZOFFSETTO:+0200
TZNAME:CEST
END:DAYLIGHT
END:VTIMEZONE
END:VCALENDAR