BEGIN:VCALENDAR
VERSION:2.0
PRODID:-//wp-events-plugin.com//7.2.2.1//EN
TZID:Europe/Berlin
X-WR-TIMEZONE:Europe/Berlin
BEGIN:VEVENT
UID:938@humanismus-bayern.de
DTSTART;TZID=Europe/Berlin:20210830T190000
DTEND;TZID=Europe/Berlin:20210830T190000
DTSTAMP:20210826T165747Z
URL:https://www.humanismus-bayern.de/blog/events/kritik-des-familismus-onl
 ine-vortrag-von-autorin-gisela-notz/
SUMMARY:Kritik des Familismus Online-Vortrag von Autorin Gisela Notz
DESCRIPTION:Die Sozialwissenschaftlerin Gisela Notz hat mit ihrer Studie "K
 ritik des Familismus" ein bahnbrechendes Grundlagenwerk vorgelegt\, das br
 eite Beachtung finden sollte. Denn die Ideologie des Familismus\, die die 
 gesellschaftliche Organisationsform aus dem Konzept einer "Idealfamilie" a
 bleitet\, hat noch immer Hochkonjunktur und führt unweigerlich zur Diskri
 minierung von Individuen\, die diesem Bild nicht entsprechen.\n\nInfos: gb
 s
CATEGORIES:GBS,Vortrag
END:VEVENT
BEGIN:VTIMEZONE
TZID:Europe/Berlin
X-LIC-LOCATION:Europe/Berlin
BEGIN:DAYLIGHT
DTSTART:20210328T030000
TZOFFSETFROM:+0100
TZOFFSETTO:+0200
TZNAME:CEST
END:DAYLIGHT
END:VTIMEZONE
END:VCALENDAR