BEGIN:VCALENDAR
VERSION:2.0
PRODID:-//wp-events-plugin.com//7.2.2.1//EN
TZID:Europe/Berlin
X-WR-TIMEZONE:Europe/Berlin
BEGIN:VEVENT
UID:934@humanismus-bayern.de
DTSTART;TZID=Europe/Berlin:20210915T150000
DTEND;TZID=Europe/Berlin:20210915T150000
DTSTAMP:20210826T164440Z
URL:https://www.humanismus-bayern.de/blog/events/kaffeenachmittag-bfg-augs
 burg-2021-09-15/
SUMMARY:Kaffeenachmittag bfg Augsburg
DESCRIPTION:Kaffeenachmittag bfg Augsburg\n\nJeden 1. und 3. Mittwoch im Mo
 nat ab 15:00 Uhr\n\nim bfg Zentrum\, Haunstetter Str. 112\, 86161 Augsburg
 \n\nGeselliges Zusammensein mit Disskussion bei Kaffee und Kuchen.\n\n\nMe
 hr Infos: bfg Augsburg
LOCATION:bfg-Zentrum Augsburg\, Haunstetter-Str. 112\, Augsburg\, Bayern\, 
 86161\, Schwaben\, Deutschland
GEO:48.3395993;10.90594980000003
X-APPLE-STRUCTURED-LOCATION;VALUE=URI;X-ADDRESS=Haunstetter-Str. 112\, Augs
 burg\, Bayern\, 86161\, Schwaben\, Deutschland;X-APPLE-RADIUS=100;X-TITLE=
 bfg-Zentrum Augsburg:geo:48.3395993,10.90594980000003
END:VEVENT
BEGIN:VTIMEZONE
TZID:Europe/Berlin
X-LIC-LOCATION:Europe/Berlin
BEGIN:DAYLIGHT
DTSTART:20210328T030000
TZOFFSETFROM:+0100
TZOFFSETTO:+0200
TZNAME:CEST
END:DAYLIGHT
END:VTIMEZONE
END:VCALENDAR