BEGIN:VCALENDAR
VERSION:2.0
PRODID:-//wp-events-plugin.com//7.2.3.1//EN
TZID:Europe/Berlin
X-WR-TIMEZONE:Europe/Berlin
BEGIN:VEVENT
UID:604@humanismus-bayern.de
DTSTART;TZID=Europe/Berlin:20191210T190000
DTEND;TZID=Europe/Berlin:20191210T190000
DTSTAMP:20190822T055749Z
URL:https://www.humanismus-bayern.de/blog/events/islam-und-menschenrechte/
SUMMARY:Islam und Menschenrechte
DESCRIPTION:Dr. Reinhold Münster\, LBA Uni Bamberg\, Mitglied der Fr-Rück
 ert-Ges.
CATEGORIES:BfG
LOCATION:Im Alten Feuerwehrhaus\, Am Feldtor 1\, Schweinfurt\, Bayern\, 974
 24\, Unterfranken\, Deutschland
GEO:50.0277;10.201220000000035
X-APPLE-STRUCTURED-LOCATION;VALUE=URI;X-ADDRESS=Am Feldtor 1\, Schweinfurt\
 , Bayern\, 97424\, Unterfranken\, Deutschland;X-APPLE-RADIUS=100;X-TITLE=I
 m Alten Feuerwehrhaus:geo:50.0277,10.201220000000035
END:VEVENT
BEGIN:VTIMEZONE
TZID:Europe/Berlin
X-LIC-LOCATION:Europe/Berlin
BEGIN:STANDARD
DTSTART:20191027T020000
TZOFFSETFROM:+0200
TZOFFSETTO:+0100
TZNAME:CET
END:STANDARD
END:VTIMEZONE
END:VCALENDAR