BEGIN:VCALENDAR
VERSION:2.0
PRODID:-//wp-events-plugin.com//7.2.2.1//EN
TZID:Europe/Berlin
X-WR-TIMEZONE:Europe/Berlin
BEGIN:VEVENT
UID:467@humanismus-bayern.de
DTSTART;TZID=Europe/Berlin:20181111T180000
DTEND;TZID=Europe/Berlin:20181111T203000
DTSTAMP:20180823T163658Z
URL:https://www.humanismus-bayern.de/blog/events/humanistischer-werteunter
 richt-in-der-staatlichen-schule-2/
SUMMARY:Humanistischer Werteunterricht in der staatlichen Schule
DESCRIPTION:Das Fach Humanistische Lebenskunde in Bayern\n\n\nIm neuen Form
 at „Humanistische Plattform“ wollen wir wichtige inhaltliche Positione
 n und politische Strategien des HVD Bayern vorstellen und mit den Mitglied
 ern diskutieren. Den Anfang macht eine zentrale Frage der humanistischen W
 ertebildung\, nämlich die Einführung des Schulfaches „Humanistische Le
 benskunde“ in Bayern.\nEinen entsprechenden Antrag haben Auszubildende a
 n einer Fachakademie für Sozialpädagogik gestellt und den HVD Bayern bea
 uftragt\, dieses Fach durchzusetzen und zu belgleiten. Hier sind wir berei
 ts im Klageverfahren gegen den Freistaat. Unsere Forderung zur Einführung
  des Faches an den öffentlichen allgemeinbildenden Schulen erörtern wir 
 derzeit (Juni 2018) mit dem Kultusministerium.\n\n\n\n&nbsp\;\n\nMehr Info
 rmationen: HVD Bayern
ATTACH;FMTTYPE=image/jpeg:https://www.humanismus-bayern.de/blog/wp-content
 /uploads/2017/04/HVD-Logo.png
CATEGORIES:HVD,Vortrag
LOCATION:Café Feuerbach\, Elvirastraße 17a\, München\, Bayern\, 80636\, 
 Oberbayern\, Deutschland
GEO:48.14832999999999;11.542709999999943
X-APPLE-STRUCTURED-LOCATION;VALUE=URI;X-ADDRESS=Elvirastraße 17a\, Münche
 n\, Bayern\, 80636\, Oberbayern\, Deutschland;X-APPLE-RADIUS=100;X-TITLE=C
 afé Feuerbach:geo:48.14832999999999,11.542709999999943
END:VEVENT
BEGIN:VTIMEZONE
TZID:Europe/Berlin
X-LIC-LOCATION:Europe/Berlin
BEGIN:STANDARD
DTSTART:20181028T020000
TZOFFSETFROM:+0200
TZOFFSETTO:+0100
TZNAME:CET
END:STANDARD
END:VTIMEZONE
END:VCALENDAR