BEGIN:VCALENDAR
VERSION:2.0
PRODID:-//wp-events-plugin.com//7.2.2.1//EN
TZID:Europe/Berlin
X-WR-TIMEZONE:Europe/Berlin
BEGIN:VEVENT
UID:2038@humanismus-bayern.de
DTSTART;TZID=Europe/Berlin:20260521T201500
DTEND;TZID=Europe/Berlin:20260521T201500
DTSTAMP:20260226T173120Z
URL:https://www.humanismus-bayern.de/blog/events/humanistischer-campus-des
 -bfg-bayern-online-wertewirrwarr-das-unverzichtbare-in-unversoehnlichen-ze
 iten/
SUMMARY:Humanistischer Campus des bfg Bayern Online: Werte­WirrWarr Das Un
 ­verzicht­bare in un­versöhn­lichen Zeiten
DESCRIPTION:\n\n\nHumanistischer Campus des bfg Bayern mit Prof. Dr. Franz 
 Josef Wetz\, Moderation: Tanja Reitmeier (bfg Bayern)\; anschließend Disk
 ussion\n\n\n\n\n\n\n\n\nWie viel Gemeinschaft braucht die liberale Demokra
 tie\, um bestehen zu können? Die Freiheit\, gewachsene Identitäten\, Gru
 ppen und Gemeinschaften repressionsfrei hinter sich lassen zu können\, is
 t eine zentrale Errungenschaft moderner Gesellschaften. Zugleich ist sie V
 oraussetzung dafür\, dass unterschiedliche Lebensstile friedlich koexisti
 eren können. Andererseits aber kann die liberale Demokratie ohne solidari
 sche Kollektive nicht überleben. Denn Gleichgültigkeit gegenüber gemein
 schaftlichen Aufgaben beeinträchtigt das freiheitliche Gemeinwesen\, das 
 auf aktive Bürgerschaft angewiesen bleibt. Franz Josef Wetz lotet einen W
 eg zwischen Gemeinwohl und Selbsterfüllung aus. Angesichts unversöhnlich
 er Debatten um Werte und Identität sucht er nach unverhandelbaren Rahmenw
 erten\, die Freiheit und Vielheit garantieren.\n\nhttps://kortizes.de/even
 t/21-05-2026/\n\n\n\n
CATEGORIES:Vortrag
END:VEVENT
BEGIN:VTIMEZONE
TZID:Europe/Berlin
X-LIC-LOCATION:Europe/Berlin
BEGIN:DAYLIGHT
DTSTART:20260329T030000
TZOFFSETFROM:+0100
TZOFFSETTO:+0200
TZNAME:CEST
END:DAYLIGHT
END:VTIMEZONE
END:VCALENDAR