BEGIN:VCALENDAR
VERSION:2.0
PRODID:-//wp-events-plugin.com//7.2.2.1//EN
TZID:Europe/Berlin
X-WR-TIMEZONE:Europe/Berlin
BEGIN:VEVENT
UID:1416@humanismus-bayern.de
DTSTART;TZID=Europe/Berlin:20230922T000000
DTEND;TZID=Europe/Berlin:20231027T000000
DTSTAMP:20230825T113027Z
URL:https://www.humanismus-bayern.de/blog/events/getrennt-vereint-arbeiter
 bewegung-im-kampf-um-die-republik-1919-1922/
SUMMARY:Getrennt & vereint. Arbeiterbewegung im Kampf um die Republik 1919-
 1922
DESCRIPTION:Ausstellung des Archivs der Münchner Arbeiterbewegung\n\nInfos
 : https://www.seidlvilla.de/ausstellung
CATEGORIES:Ausstellung
LOCATION:Seidlvilla\, Nikolaiplatz 1b\, München\, Bayern\, 80802\, Oberbay
 ern\, Deutschland
GEO:48.15867;11.587729999999965
X-APPLE-STRUCTURED-LOCATION;VALUE=URI;X-ADDRESS=Nikolaiplatz 1b\, München\
 , Bayern\, 80802\, Oberbayern\, Deutschland;X-APPLE-RADIUS=100;X-TITLE=Sei
 dlvilla:geo:48.15867,11.587729999999965
END:VEVENT
BEGIN:VTIMEZONE
TZID:Europe/Berlin
X-LIC-LOCATION:Europe/Berlin
BEGIN:DAYLIGHT
DTSTART:20230326T030000
TZOFFSETFROM:+0100
TZOFFSETTO:+0200
TZNAME:CEST
END:DAYLIGHT
END:VTIMEZONE
END:VCALENDAR