BEGIN:VCALENDAR
VERSION:2.0
PRODID:-//wp-events-plugin.com//7.2.2.1//EN
TZID:Europe/Berlin
X-WR-TIMEZONE:Europe/Berlin
BEGIN:VEVENT
UID:1872@humanismus-bayern.de
DTSTART;TZID=Europe/Berlin:20260310T193000
DTEND;TZID=Europe/Berlin:20260310T210000
DTSTAMP:20251017T105415Z
URL:https://www.humanismus-bayern.de/blog/events/gehirn-und-ki-bald-nicht-
 mehr-zu-unterscheiden/
SUMMARY:Gehirn und KI Bald nicht mehr zu unterscheiden?
DESCRIPTION:Vortrag von Prof. Dr. Katrin Amunts\nDie Begriffe »künstliche
  neuronale Netze« und »künstliche Intelligenz« lassen aufgrund ihrer 
 Ähnlichkeit eine Verbindung zu dem vermuten\, was wir über das menschlic
 he Gehirn und Verhalten wissen. Tatsächlich sind die Erfolge\, die bei de
 r Anwendung von KI erzielt wurden\, beeindruckend und manchmal nicht von m
 enschlichen Leistungen zu unterscheiden\, wie die Ergebnisse moderner KI-A
 ssistenten zeigen. Aber bedeutet dies auch\, dass Neuronen in künstlichen
  Netzen ähnlich wie in natürlichen Netzen strukturiert und angeordnet si
 nd und daher auch ähnlich funktionieren?\n\nDie komplexe Architektur von 
 Nervenzellen und ihren Verbindungen fasziniert Wissenschaftler seit mehr a
 ls 100 Jahren und hat das Zeitalter des Brain Mapping eingeläutet. Mit Hi
 lfe von KI ist es nun möglich\, diese Karten bis auf die Ebene einzelner 
 Zellen zu verfeinern und sie mit ihrer Verbindungsstruktur und ihren molek
 ularen Eigenschaften in einen räumlichen Kontext zu stellen. Dieser Ansat
 z ermöglicht es\, völlig neue Forschungsfragen über verschiedene Skalen
  hinweg zu stellen und Struktur-Funktions-Beziehungen zu untersuchen\, was
  neue Einblicke in die Komplexität des Gehirns liefert.\n\nKortizes
CATEGORIES:Kortizes,Vortrag
LOCATION:Nicolaus-Copernicus-Planetarium\, Am Plärrer 41\, Nürnberg\, Bay
 ern\, 90429\, Mittelfranken\, Deutschland
GEO:49.4482796;11.063015199999995
X-APPLE-STRUCTURED-LOCATION;VALUE=URI;X-ADDRESS=Am Plärrer 41\, Nürnberg\
 , Bayern\, 90429\, Mittelfranken\, Deutschland;X-APPLE-RADIUS=100;X-TITLE=
 Nicolaus-Copernicus-Planetarium:geo:49.4482796,11.063015199999995
END:VEVENT
BEGIN:VTIMEZONE
TZID:Europe/Berlin
X-LIC-LOCATION:Europe/Berlin
BEGIN:STANDARD
DTSTART:20251026T020000
TZOFFSETFROM:+0200
TZOFFSETTO:+0100
TZNAME:CET
END:STANDARD
END:VTIMEZONE
END:VCALENDAR