BEGIN:VCALENDAR
VERSION:2.0
PRODID:-//wp-events-plugin.com//7.2.2.1//EN
TZID:Europe/Berlin
X-WR-TIMEZONE:Europe/Berlin
BEGIN:VEVENT
UID:156@humanismus-bayern.de
DTSTART;TZID=Europe/Berlin:20170510T190000
DTEND;TZID=Europe/Berlin:20170510T190000
DTSTAMP:20170504T202739Z
URL:https://www.humanismus-bayern.de/blog/events/gedenken-an-die-buecherve
 rbrennung/
SUMMARY:Gedenken an die Bücherverbrennung
DESCRIPTION:Benefizabend mit zahlreichen Prominenten Gästen
CATEGORIES:Kultur
LOCATION:Loisachhalle\, Hammerschmiedweg 6\, Wolfratshausen\, Bayern\, 8251
 5\, Oberbayern\, Deutschland
GEO:47.9139476;11.421560999999997
X-APPLE-STRUCTURED-LOCATION;VALUE=URI;X-ADDRESS=Hammerschmiedweg 6\, Wolfra
 tshausen\, Bayern\, 82515\, Oberbayern\, Deutschland;X-APPLE-RADIUS=100;X-
 TITLE=Loisachhalle:geo:47.9139476,11.421560999999997
END:VEVENT
BEGIN:VTIMEZONE
TZID:Europe/Berlin
X-LIC-LOCATION:Europe/Berlin
BEGIN:DAYLIGHT
DTSTART:20170326T030000
TZOFFSETFROM:+0100
TZOFFSETTO:+0200
TZNAME:CEST
END:DAYLIGHT
END:VTIMEZONE
END:VCALENDAR