BEGIN:VCALENDAR
VERSION:2.0
PRODID:-//wp-events-plugin.com//7.2.3.1//EN
TZID:Europe/Berlin
X-WR-TIMEZONE:Europe/Berlin
BEGIN:VEVENT
UID:1584@humanismus-bayern.de
DTSTART;TZID=Europe/Berlin:20250211T190000
DTEND;TZID=Europe/Berlin:20250211T230000
DTSTAMP:20250127T233827Z
URL:https://www.humanismus-bayern.de/blog/events/gbs-muenchen-stammtisch-6
 -2025-02-04/
SUMMARY:GBS München Stammtisch
DESCRIPTION:Monatliche Treffen der Regionalgruppe München gbs-muc\nAm 1. D
 ienstag jeden Monats. Interessenten sind immer willkommen\, Anmeldung nich
 t erforderlich.\n\nMehr Informationen: GBS München
ATTACH;FMTTYPE=image/jpeg:https://www.humanismus-bayern.de/blog/wp-content
 /uploads/2017/04/gbs-muc-logo.png
CATEGORIES:GBS,Stammtisch
LOCATION:Rumpler\, Baumstraße 21\, München\, Bayern\, 80469\, Oberbayern\
 , Deutschland
GEO:48.126337;11.568737
X-APPLE-STRUCTURED-LOCATION;VALUE=URI;X-ADDRESS=Baumstraße 21\, München\,
  Bayern\, 80469\, Oberbayern\, Deutschland;X-APPLE-RADIUS=100;X-TITLE=Rump
 ler:geo:48.126337,11.568737
END:VEVENT
BEGIN:VTIMEZONE
TZID:Europe/Berlin
X-LIC-LOCATION:Europe/Berlin
BEGIN:STANDARD
DTSTART:20241027T020000
TZOFFSETFROM:+0200
TZOFFSETTO:+0100
TZNAME:CET
END:STANDARD
END:VTIMEZONE
END:VCALENDAR