BEGIN:VCALENDAR
VERSION:2.0
PRODID:-//wp-events-plugin.com//7.2.2.1//EN
TZID:Europe/Berlin
X-WR-TIMEZONE:Europe/Berlin
BEGIN:VEVENT
UID:1846@humanismus-bayern.de
DTSTART;TZID=Europe/Berlin:20251204T000000
DTEND;TZID=Europe/Berlin:20251204T000000
DTSTAMP:20251017T073335Z
URL:https://www.humanismus-bayern.de/blog/events/die-dimensionen-des-falls
 -prof-volz-ein-frauenarzt-das-katholische-abtreibungsverbot-und-der-%c2%a7
 218-2/
SUMMARY:Die Dimensionen des Falls Prof. Volz: Ein Frauenarzt\, das katholis
 che Abtreibungsverbot – und der §218
DESCRIPTION:Vortrag und Diskussion mit Prof. Dr. Joachim Volz\n\nWas passie
 rt\, wenn die Kirche über das ärztliche Gewissen bestimmen will? Der Gyn
 äkologe Prof. Dr. Joachim Volz steht im Zentrum eines Konflikts\, der das
  Verhältnis von medizinischer Ethik\, religiöser Dogmatik und staatliche
 m Strafrecht neu aufrüttelt.\n\nAls Chefarzt in einem katholischen Kranke
 nhaus weigerte sich Volz\, das kirchliche Verbot medizinisch indizierter S
 chwangerschaftsabbrüche zu akzeptieren – und kämpft seither für die G
 ewissensfreiheit in der Medizin\, gegen religiöse Bevormundung und für d
 as Selbstbestimmungsrecht der Frau. Sein Fall wirft ein grelles Licht auf 
 die noch immer geltende Bevormundung durch den §218 StGB und die ungebroc
 hene Macht kirchlicher Dogmen in unserem Land.\n\nMehr Infos: bfg München
ATTACH;FMTTYPE=image/jpeg:https://www.humanismus-bayern.de/blog/wp-content
 /uploads/2019/05/Logo-bfg.png
CATEGORIES:BfG,Vortrag
END:VEVENT
BEGIN:VTIMEZONE
TZID:Europe/Berlin
X-LIC-LOCATION:Europe/Berlin
BEGIN:STANDARD
DTSTART:20251026T020000
TZOFFSETFROM:+0200
TZOFFSETTO:+0100
TZNAME:CET
END:STANDARD
END:VTIMEZONE
END:VCALENDAR