BEGIN:VCALENDAR
VERSION:2.0
PRODID:-//wp-events-plugin.com//7.2.2.1//EN
TZID:Europe/Berlin
X-WR-TIMEZONE:Europe/Berlin
BEGIN:VEVENT
UID:1877@humanismus-bayern.de
DTSTART;TZID=Europe/Berlin:20260421T193000
DTEND;TZID=Europe/Berlin:20260421T210000
DTSTAMP:20251017T110559Z
URL:https://www.humanismus-bayern.de/blog/events/der-krieg-der-geschlechte
 r-zwischen-biologie-und-sozialem-konstrukt-2/
SUMMARY:Götter aus dem All? Erich von Däniken und die Prä-Astro­nautik 
 auf dem Prüf­stand
DESCRIPTION:Vortrag von Leif Inselmann\n»Die Götter waren Astronauten!« 
 – Mit der These von außerirdischen Besuchern in ferner Vergangenheit be
 geisterte Erich von Däniken seit 1968 ein Millionenpublikum. Von der akad
 emischen Wissenschaft einhellig zurückgewiesen\, hat sich die sogenannte 
 Prä-Astronautik doch seitdem zu einem multimedialen Phänomen entwickelt.
  Neben ungezählten Büchern verbreiten längst auch Doku-Serien wie »Anc
 ient Aliens« und Influencer in sozialen Medien die Idee der »Astronauten
 götter«. Doch halten die angeblichen Belege einer Überprüfung stand? A
 nlässlich Erich von Dänikens 91. Geburtstag und der Veröffentlichung se
 ines 49. und letzten Buches wird es Zeit für eine Rückschau: Der Archäo
 loge Leif Inselmann diskutiert die Ursprünge der Prä-Astronautik\, ihre 
 Argumente und Entwicklung. Was bleibt nach mehr als einem halben Jahrhunde
 rt vom Phänomen Erich von Däniken?\n\nKortizes
CATEGORIES:Kortizes,Vortrag
LOCATION:Nicolaus-Copernicus-Planetarium\, Am Plärrer 41\, Nürnberg\, Bay
 ern\, 90429\, Mittelfranken\, Deutschland
GEO:49.4482796;11.063015199999995
X-APPLE-STRUCTURED-LOCATION;VALUE=URI;X-ADDRESS=Am Plärrer 41\, Nürnberg\
 , Bayern\, 90429\, Mittelfranken\, Deutschland;X-APPLE-RADIUS=100;X-TITLE=
 Nicolaus-Copernicus-Planetarium:geo:49.4482796,11.063015199999995
END:VEVENT
BEGIN:VTIMEZONE
TZID:Europe/Berlin
X-LIC-LOCATION:Europe/Berlin
BEGIN:DAYLIGHT
DTSTART:20260329T030000
TZOFFSETFROM:+0100
TZOFFSETTO:+0200
TZNAME:CEST
END:DAYLIGHT
END:VTIMEZONE
END:VCALENDAR