BEGIN:VCALENDAR
VERSION:2.0
PRODID:-//wp-events-plugin.com//7.2.2.1//EN
TZID:Europe/Berlin
X-WR-TIMEZONE:Europe/Berlin
BEGIN:VEVENT
UID:1600@humanismus-bayern.de
DTSTART;TZID=Europe/Berlin:20241028T190000
DTEND;TZID=Europe/Berlin:20241028T190000
DTSTAMP:20240327T214700Z
URL:https://www.humanismus-bayern.de/blog/events/das-klerikale-kartell-war
 um-die-trennung-von-staat-und-kirche-ueberfaellig-ist/
SUMMARY:Das klerikale Kartell – Warum die Trennung von Staat und Kirche 
 überfällig ist
DESCRIPTION:Buchvorstellung und Diskussion mit Helmut Ortner in Fürth\nWir
  leben in einem säkularen Verfassungs-Staat. Es herrscht Glaubensfreiheit
 . Alle Bürger dürfen ihren Gott\, auch ihre Götter haben\, der Staat 
 selbst aber muss gottlos sein. Doch genau daran hapert es. Obwohl die Kirc
 hen hierzulande seit Jahrzehnten rapide an Mitgliedern verlieren und inzwi
 schen weniger als die Hälfte der Bevölkerung Mitglied in einer der beide
 n christlichen Großkirchen ist\, bestehen die Kirchen auf jahrhundertealt
 en Privilegien. Und der Staat gewährt sie ihnen in Form von Sonderrechten
 \, Subventionen und steuerlichen Vergünstigungen. Helmut Ortner fordert:
  "Diese Komplizenschaft muss ein Ende haben!"\n\n\n\nDer Autor beschreibt 
 faktenreich die andauernde Verletzung des Verfassungsgebots staatlicher Ne
 utralität – und was dagegen zu tun ist. Darüber hinaus wirft er einen
  Blick auf kirchliche Kuriositäten\, die überdeutlich zeigen\, wie weit
  die Kirche vom aufgeklärten Geist des 21. Jahrhunderts entfernt ist.\n\n
 \nMehr Infos: gbs
CATEGORIES:Vortrag
LOCATION:Innenstadtbibliothek\, Friedrichstraße 6A\, Fürth\, Bayern\, 907
 62\, Mittelfranken\, Deutschland
GEO:49.473297;10.990944
X-APPLE-STRUCTURED-LOCATION;VALUE=URI;X-ADDRESS=Friedrichstraße 6A\, Fürt
 h\, Bayern\, 90762\, Mittelfranken\, Deutschland;X-APPLE-RADIUS=100;X-TITL
 E=Innenstadtbibliothek:geo:49.473297,10.990944
END:VEVENT
BEGIN:VTIMEZONE
TZID:Europe/Berlin
X-LIC-LOCATION:Europe/Berlin
BEGIN:STANDARD
DTSTART:20241027T020000
TZOFFSETFROM:+0200
TZOFFSETTO:+0100
TZNAME:CET
END:STANDARD
END:VTIMEZONE
END:VCALENDAR