BEGIN:VCALENDAR
VERSION:2.0
PRODID:-//wp-events-plugin.com//7.2.2.1//EN
TZID:Europe/Berlin
X-WR-TIMEZONE:Europe/Berlin
BEGIN:VEVENT
UID:1873@humanismus-bayern.de
DTSTART;TZID=Europe/Berlin:20260315T110000
DTEND;TZID=Europe/Berlin:20260315T140000
DTSTAMP:20251017T105601Z
URL:https://www.humanismus-bayern.de/blog/events/das-flexible-gehirn-astro
 zyten-und-ihre-rolle-bei-der-neuronalen-plastizitaet/
SUMMARY:Das flexible Gehirn Astro­zyten und ihre Rolle bei der neuro­nale
 n Plasti­zität
DESCRIPTION:\n\n\nVortrag von Prof. Dr. Ruth Beckervordersandforth\; Modera
 tion: Helmut Fink\, Klaviermusik: Claus Gebert\n\n\n\n\n\n\n\n\nGehirnplas
 tizität ist die Möglichkeit des Gehirns\, auf neue Eindrücke und Erlebn
 isse aus der Umwelt zu reagieren. Lange Zeit ging man davon aus\, dass die
  Plastizität vorwiegend von Neuronen gesteuert wird\, jedoch deuten neues
 te Daten auf eine aktive Beteiligung von Astrozyten hin. Astrozyten gehör
 en zur Klasse der Makroglia und spielen eine zentrale Rolle in der Entsteh
 ung\, Erhaltung und Plastizität von neuralen Schaltkreisen. Als zellulär
 er Bestandteil der Blut-Hirn-Schranke regulieren Astrozyten Wasser- und Io
 nenhomöostase\, sowie die Versorgung der Nervenzellen mit Nährstoffen. D
 ie aktuelle Forschung liefert überzeugende Beweise dafür\, dass Astrozyt
 en an den meisten bekannten Gehirnerkrankungen beteiligt sind\, darunter N
 euroentwicklungs-\, neuropsychiatrische\, neurodegenerative sowie immunolo
 gische Erkrankungen. Das Ziel meiner Forschung ist es\, die Rolle der Astr
 ozyten in der Plastizität im erwachsenen Gehirn zu verstehen. Diese Erken
 ntnisse sind wichtig\, sowohl zum holistischen Verständnis von Gehirnphys
 iologie\, als auch um das Potenzial der Astrozyten für die Entwicklung ne
 uer Therapiemöglichkeiten zu nutzen.\n\nKortizes\n\n\n\n
CATEGORIES:Kortizes,Vortrag
LOCATION:Villa Leon\, Philipp-Koerber-Weg 1\, Nürnberg\, Bayern\, 90439\, 
 Oberfranken\, Deutschland
GEO:49.4434271;11.054230999999959
X-APPLE-STRUCTURED-LOCATION;VALUE=URI;X-ADDRESS=Philipp-Koerber-Weg 1\, Nü
 rnberg\, Bayern\, 90439\, Oberfranken\, Deutschland;X-APPLE-RADIUS=100;X-T
 ITLE=Villa Leon:geo:49.4434271,11.054230999999959
END:VEVENT
BEGIN:VTIMEZONE
TZID:Europe/Berlin
X-LIC-LOCATION:Europe/Berlin
BEGIN:STANDARD
DTSTART:20251026T020000
TZOFFSETFROM:+0200
TZOFFSETTO:+0100
TZNAME:CET
END:STANDARD
END:VTIMEZONE
END:VCALENDAR