BEGIN:VCALENDAR
VERSION:2.0
PRODID:-//wp-events-plugin.com//7.2.2.1//EN
TZID:Europe/Berlin
X-WR-TIMEZONE:Europe/Berlin
BEGIN:VEVENT
UID:1094@humanismus-bayern.de
DTSTART;TZID=Europe/Berlin:20221201T180000
DTEND;TZID=Europe/Berlin:20221201T200000
DTSTAMP:20221124T150541Z
URL:https://www.humanismus-bayern.de/blog/events/buecher-und-themenabend-b
 fg-muenchen-2022-12-01/
SUMMARY:"Im Grunde Gut" - Bücher- und Themenabend bfg München
DESCRIPTION:Das Buch des Monats: "Im Grunde Gut" von Rutger Bregman.\n\nJed
 en ersten Donnerstag im Monat zwischen 18.00 und 20.00 Uhr beschäftigen w
 ir uns mit aktuellen Büchern und Themen im Umfeld von Gesellschaft\, Huma
 nismus und Atheismus.\nIdeal für alle\, die mehr über den bfg erfahren w
 ollen oder sich in die Vereinsarbeit einbringen möchten - für Mitglieder
  und Noch-Nicht-Mitglieder! Ideen einbringen\, Pläne ausarbeiten\, Aktion
 en unterstützen und Strategien entwickeln. Wer macht mit? An den Abenden 
 sind Vorstandsmitglieder des bfg vor Ort.\nBücher aus der Bibliothek des 
 Bundes für Geistesfreiheit München können entliehen werden. Kommen Sie 
 einfach in die Georgenstraße 84 (Büro von 84 GHz)\, mehr Infos unter bfg
 -muenchen.de\nAlle Buchtitel unserer freigeistigen und religionskritischen
  Büchersammlung wurden online erfasst\, mit bibliogaphischen Angaben erg
 änzt und können über eine Datenbank verwaltet werden. Mehr Informatione
 n unter library.bfg-muenchen.de
ATTACH;FMTTYPE=image/jpeg:https://www.humanismus-bayern.de/blog/wp-content
 /uploads/2019/05/Logo-bfg.png
CATEGORIES:BfG,Diskussion
LOCATION:84 GHz - Raum für Gestaltung\, Georgenstraße 84\, München\, 807
 99\, Deutschland
GEO:48.1565935;11.570926800000052
X-APPLE-STRUCTURED-LOCATION;VALUE=URI;X-ADDRESS=Georgenstraße 84\, Münche
 n\, 80799\, Deutschland;X-APPLE-RADIUS=100;X-TITLE=84 GHz - Raum für Gest
 altung:geo:48.1565935,11.570926800000052
END:VEVENT
BEGIN:VTIMEZONE
TZID:Europe/Berlin
X-LIC-LOCATION:Europe/Berlin
BEGIN:STANDARD
DTSTART:20221030T020000
TZOFFSETFROM:+0200
TZOFFSETTO:+0100
TZNAME:CET
END:STANDARD
END:VTIMEZONE
END:VCALENDAR