BEGIN:VCALENDAR
VERSION:2.0
PRODID:-//wp-events-plugin.com//7.2.2.1//EN
TZID:Europe/Berlin
X-WR-TIMEZONE:Europe/Berlin
BEGIN:VEVENT
UID:486@humanismus-bayern.de
DTSTART;TZID=Europe/Berlin:20181105T200000
DTEND;TZID=Europe/Berlin:20181105T200000
DTSTAMP:20181025T162257Z
URL:https://www.humanismus-bayern.de/blog/events/andreas-altmann-in-mexiko
 -reise-durch-ein-hitziges-land/
SUMMARY:Andreas Altmann in Mexiko - Reise durch ein hitziges Land
DESCRIPTION:Der bekannte Reiseschriftsteller stellt sein neues Buch in Mün
 chen vor\nAndreas Altmann war schon überall\, und immer hat er Geschichte
 n mitgebracht. Kaum jemand hat sich dem Zauber und den Zumutungen fremder 
 Länder so ausgeliefert wie er. Viele Bestseller hat er geschrieben\, daru
 nter das Buch "Verdammtes Land. Eine Reise durch Palästina" und "Gebrauch
 sanweisung für das Leben". Für sein neues Buch reiste Altmann nach Mexik
 o. Mit klarem Blick beschreibt er dieses riesige Land\, das zuletzt durch 
 den Streit um Trumps Mauer Schlagzeilen machte. Dabei kommt auch die Relig
 ionskritik nicht zu kurz: Sprachgewaltig wie eh und je nimmt er die Widers
 innigkeit des christlichen Glaubens aufs Korn\, ohne dabei den Menschen au
 s dem Blick zu verlieren.\nMehr Infos: gbs Augsburg\n\n\n\nEintritt:\n16\,
 24 Euro (bei Ticketvorbestellung)\n\n\n
ATTACH;FMTTYPE=image/jpeg:https://www.humanismus-bayern.de/blog/wp-content
 /uploads/2017/04/giordano-bruno-stiftung-150x60-1.png
CATEGORIES:GBS,Vortrag
LOCATION:The Lovelace - 3. Etage - Housetop Bar\, Kardinal-Faulhaber-Straß
 e 1 \, München\, Bayern\, 80333 \, Oberbayern\, Deutschland
GEO:48.1412318;11.574873799999978
X-APPLE-STRUCTURED-LOCATION;VALUE=URI;X-ADDRESS=Kardinal-Faulhaber-Straße 
 1 \, München\, Bayern\, 80333 \, Oberbayern\, Deutschland;X-APPLE-RADIUS=
 100;X-TITLE=The Lovelace - 3. Etage - Housetop Bar:geo:48.1412318,11.57487
 3799999978
END:VEVENT
BEGIN:VTIMEZONE
TZID:Europe/Berlin
X-LIC-LOCATION:Europe/Berlin
BEGIN:STANDARD
DTSTART:20181028T020000
TZOFFSETFROM:+0200
TZOFFSETTO:+0100
TZNAME:CET
END:STANDARD
END:VTIMEZONE
END:VCALENDAR