BEGIN:VCALENDAR
VERSION:2.0
PRODID:-//wp-events-plugin.com//7.2.3.1//EN
TZID:Europe/Berlin
X-WR-TIMEZONE:Europe/Berlin
BEGIN:VEVENT
UID:2079@humanismus-bayern.de
DTSTART;TZID=Europe/Berlin:20260621T100000
DTEND;TZID=Europe/Berlin:20260621T100000
DTSTAMP:20260422T234314Z
URL:https://www.humanismus-bayern.de/blog/events/21-juni-sommersonnenwende
 -welthumanistentag-nuernberger-sternwarte/
SUMMARY:21. Juni: Sommersonnenwende - Welthumanistentag Nürnberger Sternwa
 rte
DESCRIPTION:Am 21. Juni 2026 laden bfg Nürnberg\, bfg Fürth und bfg Erlan
 gen zu einem Sommerfest ein\, das auf der Nürnberger Sternwarte stattfind
 et – bei gutem Wetter im Garten\, bei Regen in den Räumen der Sternwart
 e.\n\nBeginn ist 10 Uhr\, denn der exakte Termin für die Sonnenwende 2026
  ist rechnerisch um 10:24 Uhr. Dies feiern wir mit einem kleinen Countdown
 .\n\nAnschließend Brunch und Gespräche über Gott und die Welt und die R
 olle des säkularen Humanismus.\n\nInfos: bfg Fürth
CATEGORIES:Feier
LOCATION:Sternwarte Nürnberg\, Regiomontanusweg 1\, Rechenberg\, Nürnberg
 \, Bayern\, 90491\, Mittelfranken\, Deutschland
GEO:49.4645;11.110210000000052
X-APPLE-STRUCTURED-LOCATION;VALUE=URI;X-ADDRESS=Regiomontanusweg 1\, Rechen
 berg\, Nürnberg\, Bayern\, 90491\, Mittelfranken\, Deutschland;X-APPLE-RA
 DIUS=100;X-TITLE=Sternwarte Nürnberg:geo:49.4645,11.110210000000052
END:VEVENT
BEGIN:VTIMEZONE
TZID:Europe/Berlin
X-LIC-LOCATION:Europe/Berlin
BEGIN:DAYLIGHT
DTSTART:20260329T030000
TZOFFSETFROM:+0100
TZOFFSETTO:+0200
TZNAME:CEST
END:DAYLIGHT
END:VTIMEZONE
END:VCALENDAR