BEGIN:VCALENDAR
VERSION:2.0
PRODID:-//wp-events-plugin.com//7.2.2.1//EN
TZID:Europe/Berlin
X-WR-TIMEZONE:Europe/Berlin
BEGIN:VEVENT
UID:1945@humanismus-bayern.de
DTSTART;TZID=Europe/Berlin:20260118T110000
DTEND;TZID=Europe/Berlin:20260118T140000
DTSTAMP:20251203T234928Z
URL:https://www.humanismus-bayern.de/blog/events/111-tage-die-die-welt-bew
 egten-eine-saekular-humanistische-perspektive/
SUMMARY:111 Tage\, die die Welt bewegten Eine säkular-humanistische Perspe
 ktive
DESCRIPTION:\n\n\nVortrag von Ralf Nestmeyer\; Moderation: Helmut Fink\, Kl
 aviermusik: Claus Gebert\n\n\n\n\n\n\n\n\nEs gibt Momente\, in denen die W
 elt den Atem anhält. Tage\, an denen sich das Schicksal von Nationen\, Ku
 lturen oder der gesamten Menschheit entscheidet. Die Weltgeschichte kennt 
 dramatische Stunden des Umbruchs\, sei es der Sturm auf die Bastille oder 
 der Abwurf der Atombombe auf Hiroshima. Aus humanistischer Sicht erschütt
 erte das Erdbeben von Lissabon (1755) das philosophische Weltbild\, Charle
 s Darwin entdeckte auf den Galápagos-Inseln die Entstehung der Arten\, Wa
 tson und Crick die Decodierung des Lebens und der DNA-Struktur. Der Terror
 anschlag auf die Redaktion von Charlie Hebdo lässt uns wiederum über die
  Bedeutung von Meinungsfreiheit nachdenken.\n\n\n\n\nInfos: Kortizes
CATEGORIES:Vortrag
LOCATION:Villa Leon\, Alevitische Gemeinde\, Schlachthofstraße/ Philipp-Ko
 erber-Weg 1\, Nürnberg\, 90439\, Deutschland
GEO:49.44316;11.054210000000012
X-APPLE-STRUCTURED-LOCATION;VALUE=URI;X-ADDRESS=Schlachthofstraße/ Philipp
 -Koerber-Weg 1\, Nürnberg\, 90439\, Deutschland;X-APPLE-RADIUS=100;X-TITL
 E=Villa Leon\, Alevitische Gemeinde:geo:49.44316,11.054210000000012
END:VEVENT
BEGIN:VTIMEZONE
TZID:Europe/Berlin
X-LIC-LOCATION:Europe/Berlin
BEGIN:STANDARD
DTSTART:20251026T020000
TZOFFSETFROM:+0200
TZOFFSETTO:+0100
TZNAME:CET
END:STANDARD
END:VTIMEZONE
END:VCALENDAR