BEGIN:VCALENDAR
VERSION:2.0
PRODID:-//wp-events-plugin.com//7.2.3.1//EN
TZID:Europe/Berlin
X-WR-TIMEZONE:Europe/Berlin
BEGIN:VEVENT
UID:2078@humanismus-bayern.de
DTSTART;TZID=Europe/Berlin:20260430T110000
DTEND;TZID=Europe/Berlin:20260430T110000
DTSTAMP:20260422T234032Z
URL:https://www.humanismus-bayern.de/blog/events/10-jahre-widerstandsdenkm
 al-veranstaltung-am-30-april/
SUMMARY:10 Jahre WiderstandsDenkmal: Veranstaltung
DESCRIPTION:Die Initiative WiderstandsDenkmal lädt ein zur Veranstaltung a
 m Donnerstag\, 30. April 2026 um 11.00Uhr am Platz der Freiheit (Landshute
 r Allee/Leonrodstraße) anlässlich des 10jährigen Bestehens des Widersta
 ndsDenkmals.\n\nDie Initiative hofft\, dass das Denkmal zur Würdigung von
  Personen\, die aus unterschiedlichen Motiven Widerstand gegen die Nazis l
 eisteten\, bestehen bleiben kann und von der Stadt München übernommen wi
 rd. Das wäre aufgrund der aktuellen Entwicklungen und Ereignisse in ihren
  Augen notwendig und ein gutes Zeichen. Dazu gibt es einen entsprechenden 
 Antrag im Stadtrat\, über den bis Juli 2026 beraten und beschlossen werde
 n soll.\n\nAm 29. April um 11.00 wird die Initiative die Stelen des Denkma
 ls pflegen und und bittet um tatkräftige Unterstützung.\n\nInfos: bfg M
 ünchen
LOCATION:Widerstandsdenkmal\, Platz der Freiheit\, München\, Bayern\, 8063
 4\, Oberbayern\, Deutschland
GEO:48.154117;11.536763
X-APPLE-STRUCTURED-LOCATION;VALUE=URI;X-ADDRESS=Platz der Freiheit\, Münch
 en\, Bayern\, 80634\, Oberbayern\, Deutschland;X-APPLE-RADIUS=100;X-TITLE=
 Widerstandsdenkmal:geo:48.154117,11.536763
END:VEVENT
BEGIN:VTIMEZONE
TZID:Europe/Berlin
X-LIC-LOCATION:Europe/Berlin
BEGIN:DAYLIGHT
DTSTART:20260329T030000
TZOFFSETFROM:+0100
TZOFFSETTO:+0200
TZNAME:CEST
END:DAYLIGHT
END:VTIMEZONE
END:VCALENDAR